BEGIN:VCALENDAR
VERSION:2.0
PRODID:-//Global FM - ECPv6.14.0//NONSGML v1.0//EN
CALSCALE:GREGORIAN
METHOD:PUBLISH
X-WR-CALNAME:Global FM
X-ORIGINAL-URL:https://www.globalfm.org
X-WR-CALDESC:Events for Global FM
REFRESH-INTERVAL;VALUE=DURATION:PT1H
X-Robots-Tag:noindex
X-PUBLISHED-TTL:PT1H
BEGIN:VTIMEZONE
TZID:America/New_York
BEGIN:DAYLIGHT
TZOFFSETFROM:-0500
TZOFFSETTO:-0400
TZNAME:EDT
DTSTART:20210314T070000
END:DAYLIGHT
BEGIN:STANDARD
TZOFFSETFROM:-0400
TZOFFSETTO:-0500
TZNAME:EST
DTSTART:20211107T060000
END:STANDARD
END:VTIMEZONE
BEGIN:VTIMEZONE
TZID:America/Sao_Paulo
BEGIN:STANDARD
TZOFFSETFROM:-0300
TZOFFSETTO:-0300
TZNAME:-03
DTSTART:20210101T000000
END:STANDARD
END:VTIMEZONE
BEGIN:VTIMEZONE
TZID:Australia/Melbourne
BEGIN:STANDARD
TZOFFSETFROM:+1100
TZOFFSETTO:+1000
TZNAME:AEST
DTSTART:20210403T160000
END:STANDARD
BEGIN:DAYLIGHT
TZOFFSETFROM:+1000
TZOFFSETTO:+1100
TZNAME:AEDT
DTSTART:20211002T160000
END:DAYLIGHT
END:VTIMEZONE
BEGIN:VTIMEZONE
TZID:Europe/Istanbul
BEGIN:STANDARD
TZOFFSETFROM:+0300
TZOFFSETTO:+0300
TZNAME:+03
DTSTART:20210101T000000
END:STANDARD
END:VTIMEZONE
BEGIN:VTIMEZONE
TZID:Australia/Sydney
BEGIN:STANDARD
TZOFFSETFROM:+1100
TZOFFSETTO:+1000
TZNAME:AEST
DTSTART:20210403T160000
END:STANDARD
BEGIN:DAYLIGHT
TZOFFSETFROM:+1000
TZOFFSETTO:+1100
TZNAME:AEDT
DTSTART:20211002T160000
END:DAYLIGHT
END:VTIMEZONE
BEGIN:VTIMEZONE
TZID:America/Denver
BEGIN:DAYLIGHT
TZOFFSETFROM:-0700
TZOFFSETTO:-0600
TZNAME:MDT
DTSTART:20210314T090000
END:DAYLIGHT
BEGIN:STANDARD
TZOFFSETFROM:-0600
TZOFFSETTO:-0700
TZNAME:MST
DTSTART:20211107T080000
END:STANDARD
END:VTIMEZONE
BEGIN:VTIMEZONE
TZID:Asia/Shanghai
BEGIN:STANDARD
TZOFFSETFROM:+0800
TZOFFSETTO:+0800
TZNAME:CST
DTSTART:20210101T000000
END:STANDARD
END:VTIMEZONE
BEGIN:VTIMEZONE
TZID:Europe/Helsinki
BEGIN:DAYLIGHT
TZOFFSETFROM:+0200
TZOFFSETTO:+0300
TZNAME:EEST
DTSTART:20210328T010000
END:DAYLIGHT
BEGIN:STANDARD
TZOFFSETFROM:+0300
TZOFFSETTO:+0200
TZNAME:EET
DTSTART:20211031T010000
END:STANDARD
END:VTIMEZONE
BEGIN:VTIMEZONE
TZID:America/Sao_Paulo
BEGIN:STANDARD
TZOFFSETFROM:-0300
TZOFFSETTO:-0300
TZNAME:-03
DTSTART:20210101T000000
END:STANDARD
END:VTIMEZONE
BEGIN:VTIMEZONE
TZID:America/Panama
BEGIN:STANDARD
TZOFFSETFROM:-0500
TZOFFSETTO:-0500
TZNAME:EST
DTSTART:20210101T000000
END:STANDARD
END:VTIMEZONE
BEGIN:VEVENT
DTSTART;VALUE=DATE:20211026
DTEND;VALUE=DATE:20211029
DTSTAMP:20260423T095728
CREATED:20210929T112214Z
LAST-MODIFIED:20221019T123025Z
UID:4523-1635206400-1635465599@www.globalfm.org
SUMMARY:IFMA’s World Workplace 2021
DESCRIPTION:Addressing what’s now and preparing for what’s next is what IFMA does year-round. World Workplace will present the most constructive information and innovative insights on the new world of work. \n\nReal-world action plans for safeguarding lives and assets\nStrategies for heightening operational agility and resilience\nTactics for creating healthy\, sustainable\, whole-person spaces\nMethods for building inclusive workplace experiences\nTechnology how-to’s for better facility control\nHands-on access to new and necessary products and services\n\nViagra Sipariş il viagra funziona 33 libbre di viagra sequestrate dalla dogana a cincinnati
URL:https://www.globalfm.org/event/ifmas-world-workplace-2021/
CATEGORIES:Conference
ATTACH;FMTTYPE=image/png:https://www.globalfm.org/wp-content/uploads/2021/05/IFMA_2021_logo-w-tag.png
END:VEVENT
BEGIN:VEVENT
DTSTART;VALUE=DATE:20210818
DTEND;VALUE=DATE:20210820
DTSTAMP:20260423T095728
CREATED:20210803T081732Z
LAST-MODIFIED:20210803T082100Z
UID:4472-1629244800-1629417599@www.globalfm.org
SUMMARY:ABRAFAC Congress
DESCRIPTION:THE LARGEST AND MOST IMPORTANT FACILITY MANAGEMENT\, PROPERTY AND WORKPLACE EVENT IN BRAZIL \n\n\nTHE FACILITY MANAGEMENT INDUSTRY HAS NEVER WITNESSED AN ONLINE EVENT AS COMPLETE AS WHAT’S TO COME AT THE ABRAFAC & 15TH EXPO FM 2021 CONGRESS\n\n\n\n\n\n\n\nThis year’s ABRAFAC Congress will bring together the industry’s leading experts\, presenting the latest news\, trends and innovations. They are high-weight professionals who will be present sharing quality content to take participants’ careers to another level.\n\n\n\n\n\n\n\n\nIn turn\, the 15th Expo FM in partnership with ABRALIMP arrives with an innovative model of 100% digital fair\, bringing together stands of the most respected companies in the sector\, attractions\, business opportunities and networking tools accessible to a touch. In a current situation in which the future is on the agenda\, ABRAFAC opens a world of possibilities for the fully online FM professional. \nBoth Expo FM and abrafac congress 2021 will take place 100% online\, ensuring more security and sharing knowledge without any borders!
URL:https://www.globalfm.org/event/abrafac-congress/
CATEGORIES:Conference
ATTACH;FMTTYPE=image/jpeg:https://www.globalfm.org/wp-content/uploads/2021/05/abrafac-logo.jpeg
END:VEVENT
BEGIN:VEVENT
DTSTART;VALUE=DATE:20210817
DTEND;VALUE=DATE:20210826
DTSTAMP:20260423T095728
CREATED:20210803T081954Z
LAST-MODIFIED:20210803T082032Z
UID:4475-1629158400-1629935999@www.globalfm.org
SUMMARY:15th Expo FM
DESCRIPTION:THE LARGEST AND MOST IMPORTANT FACILITY MANAGEMENT\, PROPERTY AND WORKPLACE EVENT IN BRAZIL \n\n\nTHE FACILITY MANAGEMENT INDUSTRY HAS NEVER WITNESSED AN ONLINE EVENT AS COMPLETE AS WHAT’S TO COME AT THE ABRAFAC & 15TH EXPO FM 2021 CONGRESS\n\n\n\n\n\n\n\nThis year’s ABRAFAC Congress will bring together the industry’s leading experts\, presenting the latest news\, trends and innovations. They are high-weight professionals who will be present sharing quality content to take participants’ careers to another level.\n\n\n\n\n\n\n\n\nIn turn\, the 15th Expo FM in partnership with ABRALIMP arrives with an innovative model of 100% digital fair\, bringing together stands of the most respected companies in the sector\, attractions\, business opportunities and networking tools accessible to a touch. In a current situation in which the future is on the agenda\, ABRAFAC opens a world of possibilities for the fully online FM professional. \nBoth Expo FM and abrafac congress 2021 will take place 100% online\, ensuring more security and sharing knowledge without any borders!
URL:https://www.globalfm.org/event/15th-expo-fm/
CATEGORIES:Conference
ATTACH;FMTTYPE=image/jpeg:https://www.globalfm.org/wp-content/uploads/2021/05/abrafac-logo.jpeg
END:VEVENT
BEGIN:VEVENT
DTSTART;VALUE=DATE:20210601
DTEND;VALUE=DATE:20210602
DTSTAMP:20260423T095728
CREATED:20210507T171932Z
LAST-MODIFIED:20210507T172223Z
UID:4336-1622505600-1622591999@www.globalfm.org
SUMMARY:TRFMA conference
DESCRIPTION:Turkish Facility Manager’s Association two day conference
URL:https://www.globalfm.org/event/trfma-conference/
CATEGORIES:Conference
ATTACH;FMTTYPE=image/png:https://www.globalfm.org/wp-content/uploads/2020/09/TRFMA-LOGO-SON-eng.png
END:VEVENT
BEGIN:VEVENT
DTSTART;TZID=Australia/Sydney:20210526T120000
DTEND;TZID=Australia/Sydney:20210526T130000
DTSTAMP:20260423T095728
CREATED:20210507T163052Z
LAST-MODIFIED:20210507T163052Z
UID:4331-1622030400-1622034000@www.globalfm.org
SUMMARY:"SA World FM Day Networking event & information session  "
DESCRIPTION:Face to face meeting for South Australia based FMA members in Adelaide.
URL:https://www.globalfm.org/event/sa-world-fm-day-networking-event-information-session/
CATEGORIES:Conference
ATTACH;FMTTYPE=image/png:https://www.globalfm.org/wp-content/uploads/2020/02/fma-logo.png
END:VEVENT
BEGIN:VEVENT
DTSTART;TZID=Australia/Melbourne:20210514T120000
DTEND;TZID=Australia/Melbourne:20210514T170000
DTSTAMP:20260423T095728
CREATED:20210507T162048Z
LAST-MODIFIED:20210507T162048Z
UID:4329-1620993600-1621011600@www.globalfm.org
SUMMARY:QLD World FM Day lunch & panel discussion
DESCRIPTION:Face to face meeting for Queensland based FMA members in Brisbane
URL:https://www.globalfm.org/event/qld-world-fm-day-lunch-panel-discussion/
CATEGORIES:Conference
ATTACH;FMTTYPE=image/png:https://www.globalfm.org/wp-content/uploads/2020/02/fma-logo.png
END:VEVENT
BEGIN:VEVENT
DTSTART;TZID=Australia/Melbourne:20210513T173000
DTEND;TZID=Australia/Melbourne:20210513T193000
DTSTAMP:20260423T095728
CREATED:20210507T162608Z
LAST-MODIFIED:20210507T162608Z
UID:4325-1620927000-1620934200@www.globalfm.org
SUMMARY:WA World FM Day Networking event
DESCRIPTION:Face to face meeting for West Australia based FMA members in Perth.
URL:https://www.globalfm.org/event/wa-world-fm-day-networking-event/
CATEGORIES:Conference
ATTACH;FMTTYPE=image/png:https://www.globalfm.org/wp-content/uploads/2020/02/fma-logo.png
END:VEVENT
BEGIN:VEVENT
DTSTART;TZID=Australia/Sydney:20210513T150000
DTEND;TZID=Australia/Sydney:20210513T200000
DTSTAMP:20260423T095728
CREATED:20210507T162907Z
LAST-MODIFIED:20210507T162907Z
UID:4323-1620918000-1620936000@www.globalfm.org
SUMMARY:VIC World FM Day lunch & information session
DESCRIPTION:Face to face meeting in Melbourne involving a leader in commercial\, a leader in retail and a leader in residential to talk about how they pivoted during the pandemic and what learnings they have taken away
URL:https://www.globalfm.org/event/vic-world-fm-day-lunch-information-session/
CATEGORIES:Conference
ATTACH;FMTTYPE=image/png:https://www.globalfm.org/wp-content/uploads/2020/02/fma-logo.png
END:VEVENT
BEGIN:VEVENT
DTSTART;TZID=Australia/Melbourne:20210513T080000
DTEND;TZID=Australia/Melbourne:20210513T100000
DTSTAMP:20260423T095728
CREATED:20210507T162435Z
LAST-MODIFIED:20210507T162701Z
UID:4327-1620892800-1620900000@www.globalfm.org
SUMMARY:NSW World FM Day breakfast & information session
DESCRIPTION:Face to face meeting for New South Wales based FMA members in Sydney
URL:https://www.globalfm.org/event/nsw-world-fm-day-breakfast-information-session/
CATEGORIES:Conference
ATTACH;FMTTYPE=image/png:https://www.globalfm.org/wp-content/uploads/2020/02/fma-logo.png
END:VEVENT
BEGIN:VEVENT
DTSTART;TZID=America/Denver:20210512T160000
DTEND;TZID=America/Denver:20210512T173000
DTSTAMP:20260423T095728
CREATED:20210507T165932Z
LAST-MODIFIED:20210507T165932Z
UID:4341-1620835200-1620840600@www.globalfm.org
SUMMARY:IFMA - Women Consultants and Clients Managing the Built Environment
DESCRIPTION:Themes:\n– FM where you work – selling FM and promoting ourselves\nISO Standards and International credentials – changing FM expectations for women\n– Viewpoints and experiences – women consultants and clients\n– Careers in FM – women\, the FM pipeline\, and how to build the future
URL:https://www.globalfm.org/event/ifma-women-consultants-and-clients-managing-the-built-environment-4/
CATEGORIES:Conference
ATTACH;FMTTYPE=image/jpeg:https://www.globalfm.org/wp-content/uploads/2020/02/ifma-logo.jpg
END:VEVENT
BEGIN:VEVENT
DTSTART;TZID=Asia/Shanghai:20210512T160000
DTEND;TZID=Asia/Shanghai:20210512T173000
DTSTAMP:20260423T095728
CREATED:20210507T165444Z
LAST-MODIFIED:20210507T174405Z
UID:4343-1620835200-1620840600@www.globalfm.org
SUMMARY:IFMA - Women Consultants and Clients Managing the Built Environment
DESCRIPTION:Themes:\n– FM where you work – selling FM and promoting ourselves\n– ISO Standards and International credentials – changing FM expectations for women\n– Viewpoints and experiences – women consultants and clients\n– Careers in FM – women\, the FM pipeline\, and how to build the future
URL:https://www.globalfm.org/event/ifma-women-consultants-and-clients-managing-the-built-environment-3/
CATEGORIES:Conference
ATTACH;FMTTYPE=image/jpeg:https://www.globalfm.org/wp-content/uploads/2020/02/ifma-logo.jpg
END:VEVENT
BEGIN:VEVENT
DTSTART;TZID=Europe/Helsinki:20210512T160000
DTEND;TZID=Europe/Helsinki:20210512T173000
DTSTAMP:20260423T095728
CREATED:20210507T165226Z
LAST-MODIFIED:20210507T165226Z
UID:4345-1620835200-1620840600@www.globalfm.org
SUMMARY:IFMA - Women Consultants and Clients Managing the Built Environment
DESCRIPTION:Themes:\n– FM where you work – selling FM and promoting ourselves\n– ISO Standards and International credentials – changing FM expectations for women\n– Viewpoints and experiences – women consultants and clients\n– Careers in FM – women\, the FM pipeline\, and how to build the future
URL:https://www.globalfm.org/event/ifma-women-consultants-and-clients-managing-the-built-environment-2/
CATEGORIES:Conference
ATTACH;FMTTYPE=image/jpeg:https://www.globalfm.org/wp-content/uploads/2020/02/ifma-logo.jpg
END:VEVENT
BEGIN:VEVENT
DTSTART;TZID=America/Sao_Paulo:20210512T160000
DTEND;TZID=America/Sao_Paulo:20210512T173000
DTSTAMP:20260423T095728
CREATED:20210507T163245Z
LAST-MODIFIED:20210507T165308Z
UID:4347-1620835200-1620840600@www.globalfm.org
SUMMARY:IFMA - Women Consultants and Clients Managing the Built Environment
DESCRIPTION:Themes:\n– FM where you work – selling FM and promoting ourselves\n– ISO Standards and International credentials – changing FM expectations for women\n– Viewpoints and experiences – women consultants and clients\n– Careers in FM – women\, the FM pipeline\, and how to build the future
URL:https://www.globalfm.org/event/ifma-women-consultants-and-clients-managing-the-built-environment/
CATEGORIES:Conference
ATTACH;FMTTYPE=image/jpeg:https://www.globalfm.org/wp-content/uploads/2020/02/ifma-logo.jpg
END:VEVENT
BEGIN:VEVENT
DTSTART;TZID=America/Panama:20210512T120000
DTEND;TZID=America/Panama:20210512T170000
DTSTAMP:20260423T095728
CREATED:20210507T170326Z
LAST-MODIFIED:20210507T170326Z
UID:4338-1620820800-1620838800@www.globalfm.org
SUMMARY:APAFM - Online event with participants from Mexico\, Argentina and Peru
DESCRIPTION:– Presidents of FM Associations\n– Women in FM\n– Application of an ISO standard\n– FM professionals perspectives in latam\n– Men in FM
URL:https://www.globalfm.org/event/apafm-online-event-with-participants-from-mexico-argentina-and-peru/
CATEGORIES:Conference
ATTACH;FMTTYPE=image/jpeg:https://www.globalfm.org/wp-content/uploads/2021/02/apafam-logo.jpg
END:VEVENT
BEGIN:VEVENT
DTSTART;TZID=Australia/Melbourne:20210512T120000
DTEND;TZID=Australia/Melbourne:20210512T130000
DTSTAMP:20260423T095728
CREATED:20210507T170512Z
LAST-MODIFIED:20210507T170512Z
UID:4320-1620820800-1620824400@www.globalfm.org
SUMMARY:ACT World FM Day morning tea & information session
DESCRIPTION:Face to face meeting for ACT FMA members in Canberra
URL:https://www.globalfm.org/event/act-world-fm-day-morning-tea-information-session/
CATEGORIES:Conference
ATTACH;FMTTYPE=image/png:https://www.globalfm.org/wp-content/uploads/2020/02/fma-logo.png
END:VEVENT
END:VCALENDAR